BEGIN:VCALENDAR
VERSION:2.0
PRODID:-//Bastrop County Cares - ECPv6.15.18//NONSGML v1.0//EN
CALSCALE:GREGORIAN
METHOD:PUBLISH
X-WR-CALNAME:Bastrop County Cares
X-ORIGINAL-URL:https://www.bastropcares.org
X-WR-CALDESC:Events for Bastrop County Cares
REFRESH-INTERVAL;VALUE=DURATION:PT1H
X-Robots-Tag:noindex
X-PUBLISHED-TTL:PT1H
BEGIN:VTIMEZONE
TZID:America/Chicago
BEGIN:DAYLIGHT
TZOFFSETFROM:-0600
TZOFFSETTO:-0500
TZNAME:CDT
DTSTART:20240310T080000
END:DAYLIGHT
BEGIN:STANDARD
TZOFFSETFROM:-0500
TZOFFSETTO:-0600
TZNAME:CST
DTSTART:20241103T070000
END:STANDARD
BEGIN:DAYLIGHT
TZOFFSETFROM:-0600
TZOFFSETTO:-0500
TZNAME:CDT
DTSTART:20250309T080000
END:DAYLIGHT
BEGIN:STANDARD
TZOFFSETFROM:-0500
TZOFFSETTO:-0600
TZNAME:CST
DTSTART:20251102T070000
END:STANDARD
BEGIN:DAYLIGHT
TZOFFSETFROM:-0600
TZOFFSETTO:-0500
TZNAME:CDT
DTSTART:20260308T080000
END:DAYLIGHT
BEGIN:STANDARD
TZOFFSETFROM:-0500
TZOFFSETTO:-0600
TZNAME:CST
DTSTART:20261101T070000
END:STANDARD
END:VTIMEZONE
BEGIN:VEVENT
DTSTART;TZID=America/Chicago:20250402T170000
DTEND;TZID=America/Chicago:20250402T190000
DTSTAMP:20260422T022604
CREATED:20250312T200512Z
LAST-MODIFIED:20250326T172237Z
UID:15737-1743613200-1743620400@www.bastropcares.org
SUMMARY:Care-A-Van Event – Thomas Memorial Park
DESCRIPTION:Join us for a fun-filled Care-A-Van event at Thomas Memorial Park\, where Bastrop County Cares brings exciting activities\, live entertainment\, and community resources to support and inspire kids of all ages. Enjoy inflatable games\, thrilling water slides\, creative painting projects\, and much more while connecting with local services dedicated to children’s health and well-being. Please note\, certain events are weather-dependent\, and the schedule may change if necessary. We look forward to seeing you there for a day of fun and community!
URL:https://www.bastropcares.org/community-event/care-a-van-event-thomas-memorial-park/
LOCATION:Thomas Memorial Park\, 411 Madison St\, Elguin\, TX\, 78621
CATEGORIES:Thriving Communities
ATTACH;FMTTYPE=image/jpeg:https://www.bastropcares.org/wp-content/uploads/2025/03/Care-a-Van-1920x1080-1.jpg
END:VEVENT
END:VCALENDAR