BEGIN:VCALENDAR
VERSION:2.0
PRODID:-//Bastrop County Cares - ECPv6.15.18//NONSGML v1.0//EN
CALSCALE:GREGORIAN
METHOD:PUBLISH
X-WR-CALNAME:Bastrop County Cares
X-ORIGINAL-URL:https://www.bastropcares.org/es/
X-WR-CALDESC:Eventos para Bastrop County Cares
REFRESH-INTERVAL;VALUE=DURATION:PT1H
X-Robots-Tag:noindex
X-PUBLISHED-TTL:PT1H
BEGIN:VTIMEZONE
TZID:America/Chicago
BEGIN:DAYLIGHT
TZOFFSETFROM:-0600
TZOFFSETTO:-0500
TZNAME:CDT
DTSTART:20240310T080000
END:DAYLIGHT
BEGIN:STANDARD
TZOFFSETFROM:-0500
TZOFFSETTO:-0600
TZNAME:CST
DTSTART:20241103T070000
END:STANDARD
BEGIN:DAYLIGHT
TZOFFSETFROM:-0600
TZOFFSETTO:-0500
TZNAME:CDT
DTSTART:20250309T080000
END:DAYLIGHT
BEGIN:STANDARD
TZOFFSETFROM:-0500
TZOFFSETTO:-0600
TZNAME:CST
DTSTART:20251102T070000
END:STANDARD
BEGIN:DAYLIGHT
TZOFFSETFROM:-0600
TZOFFSETTO:-0500
TZNAME:CDT
DTSTART:20260308T080000
END:DAYLIGHT
BEGIN:STANDARD
TZOFFSETFROM:-0500
TZOFFSETTO:-0600
TZNAME:CST
DTSTART:20261101T070000
END:STANDARD
END:VTIMEZONE
BEGIN:VEVENT
DTSTART;TZID=America/Chicago:20251016T173000
DTEND;TZID=America/Chicago:20251016T193000
DTSTAMP:20260425T053620
CREATED:20250826T190140Z
LAST-MODIFIED:20250826T190140Z
UID:18132-1760635800-1760643000@www.bastropcares.org
SUMMARY:Evento Care-A-Van - Smithville MLK Park
DESCRIPTION:Únete a nosotros en un evento Care-A-Van lleno de diversión en el parque Smithville MLK! donde Bastrop County Cares trae actividades emocionantes\, entretenimiento en directo y recursos comunitarios para apoyar e inspirar a niños de todas las edades. Disfruta de juegos hinchables\, emocionantes toboganes acuáticos\, creativos proyectos de pintura y mucho más\, mientras conectas con servicios locales dedicados a la salud y el bienestar de los niños. Ten en cuenta que algunos actos dependen del tiempo y que el horario puede cambiar si es necesario. ¡Esperamos verte allí para un día de diversión y comunidad!
URL:https://www.bastropcares.org/es/community-event/evento-care-a-van-smithville-mlk-park-6/
LOCATION:Smithville MLK Park\, 208 Miller street\, Smithville\, TX\, 78957\, United States
CATEGORIES:Comunidades Prósperas
ATTACH;FMTTYPE=image/jpeg:https://www.bastropcares.org/wp-content/uploads/2025/03/Care-a-Van-1920x1080-1.jpg
END:VEVENT
END:VCALENDAR