BEGIN:VCALENDAR
VERSION:2.0
PRODID:-//Bastrop County Cares - ECPv6.15.18//NONSGML v1.0//EN
CALSCALE:GREGORIAN
METHOD:PUBLISH
X-WR-CALNAME:Bastrop County Cares
X-ORIGINAL-URL:https://www.bastropcares.org/es/
X-WR-CALDESC:Eventos para Bastrop County Cares
REFRESH-INTERVAL;VALUE=DURATION:PT1H
X-Robots-Tag:noindex
X-PUBLISHED-TTL:PT1H
BEGIN:VTIMEZONE
TZID:America/Chicago
BEGIN:DAYLIGHT
TZOFFSETFROM:-0600
TZOFFSETTO:-0500
TZNAME:CDT
DTSTART:20250309T080000
END:DAYLIGHT
BEGIN:STANDARD
TZOFFSETFROM:-0500
TZOFFSETTO:-0600
TZNAME:CST
DTSTART:20251102T070000
END:STANDARD
BEGIN:DAYLIGHT
TZOFFSETFROM:-0600
TZOFFSETTO:-0500
TZNAME:CDT
DTSTART:20260308T080000
END:DAYLIGHT
BEGIN:STANDARD
TZOFFSETFROM:-0500
TZOFFSETTO:-0600
TZNAME:CST
DTSTART:20261101T070000
END:STANDARD
BEGIN:DAYLIGHT
TZOFFSETFROM:-0600
TZOFFSETTO:-0500
TZNAME:CDT
DTSTART:20270314T080000
END:DAYLIGHT
BEGIN:STANDARD
TZOFFSETFROM:-0500
TZOFFSETTO:-0600
TZNAME:CST
DTSTART:20271107T070000
END:STANDARD
END:VTIMEZONE
BEGIN:VEVENT
DTSTART;TZID=America/Chicago:20260418T110000
DTEND;TZID=America/Chicago:20260418T153000
DTSTAMP:20260420T031549
CREATED:20260323T191137Z
LAST-MODIFIED:20260330T155006Z
UID:10000900-1776510000-1776526200@www.bastropcares.org
SUMMARY:Fiesta de la Primavera
DESCRIPTION:Springfest es un festival comunitario gratuito y familiar que tiene lugar en Fisherman’s Park\, en el centro de Bastrop. Organizado por el Children’s Advocacy Center y CASA\, que sirven a los condados de Bastrop\, Lee y Fayette\, este acontecimiento anual celebra el Mes Nacional de la Prevención del Maltrato Infantil a la vez que reúne a las familias en un día de diversión y conexión. \nLas familias podrán disfrutar de diversas actividades\, como una zona de juegos para niños\, casetas hinchables\, juegos\, música en directo\, camiones de comida y experiencias interactivas con organizaciones locales. Los asistentes también tendrán la oportunidad de ponerse en contacto con recursos de la comunidad\, como socorristas\, educadores y proveedores de asistencia sanitaria\, todo ello en un entorno divertido y acogedor. \nSpringfest está abierto al público y diseñado para crear un espacio seguro y atractivo donde las familias puedan aprender\, conectar y establecer relaciones más sólidas dentro de la comunidad. \nFecha: 18 de abril de 2026 \nHora: de 11:00 a 15:30 \nLocalización: Fisherman’s Park: 1200 Willow St\, Bastrop\, TX 78602 \nLos vendedores pueden inscribirse aquí \nPara obtener más información o ver todos los detalles del evento\, visita: https://www.springfest.org/ \nPara más información\, ponte en contacto con spring.fest@cacbastrop.org
URL:https://www.bastropcares.org/es/community-event/fiesta-de-la-primavera/
LOCATION:Fisherman’s Park\, 1200 Willow St\, Bastrop\, TX\, 78602
CATEGORIES:Salud
ATTACH;FMTTYPE=image/jpeg:https://www.bastropcares.org/wp-content/uploads/2026/03/Springfest.jpg
ORGANIZER;CN="Bastrop County Cares":MAILTO:communications@bastropcares.org
END:VEVENT
END:VCALENDAR